BEGIN:VCALENDAR
VERSION:2.0
PRODID:-//CECILE CAPPOZZO - ECPv6.15.20//NONSGML v1.0//EN
CALSCALE:GREGORIAN
METHOD:PUBLISH
X-WR-CALNAME:CECILE CAPPOZZO
X-ORIGINAL-URL:https://cecilecappozzo.com
X-WR-CALDESC:Évènements pour CECILE CAPPOZZO
REFRESH-INTERVAL;VALUE=DURATION:PT1H
X-Robots-Tag:noindex
X-PUBLISHED-TTL:PT1H
BEGIN:VTIMEZONE
TZID:Europe/Paris
BEGIN:DAYLIGHT
TZOFFSETFROM:+0100
TZOFFSETTO:+0200
TZNAME:CEST
DTSTART:20250330T010000
END:DAYLIGHT
BEGIN:STANDARD
TZOFFSETFROM:+0200
TZOFFSETTO:+0100
TZNAME:CET
DTSTART:20251026T010000
END:STANDARD
BEGIN:DAYLIGHT
TZOFFSETFROM:+0100
TZOFFSETTO:+0200
TZNAME:CEST
DTSTART:20260329T010000
END:DAYLIGHT
BEGIN:STANDARD
TZOFFSETFROM:+0200
TZOFFSETTO:+0100
TZNAME:CET
DTSTART:20261025T010000
END:STANDARD
BEGIN:DAYLIGHT
TZOFFSETFROM:+0100
TZOFFSETTO:+0200
TZNAME:CEST
DTSTART:20270328T010000
END:DAYLIGHT
BEGIN:STANDARD
TZOFFSETFROM:+0200
TZOFFSETTO:+0100
TZNAME:CET
DTSTART:20271031T010000
END:STANDARD
END:VTIMEZONE
BEGIN:VEVENT
DTSTART;TZID=Europe/Paris:20260424T193000
DTEND;TZID=Europe/Paris:20260424T233000
DTSTAMP:20260422T181255
CREATED:20260313T154126Z
LAST-MODIFIED:20260313T154253Z
UID:2284-1777059000-1777073400@cecilecappozzo.com
SUMMARY:Impureza + La Cecilia
DESCRIPTION:
URL:https://cecilecappozzo.com/event/impureza-la-cecilia-2/
LOCATION:Le Bateau Ivre\, Tours
ATTACH;FMTTYPE=image/jpeg:https://cecilecappozzo.com/wp-content/uploads/2026/03/649980986_1571448381655598_1854264292854558864_n.jpg
END:VEVENT
END:VCALENDAR